BEGIN:VCALENDAR
VERSION:2.0
PRODID:icalendar-ruby
CALSCALE:GREGORIAN
METHOD:PUBLISH
BEGIN:VEVENT
DTSTAMP:20260421T114802Z
UID:21-2398020@ziondavenport.org
DTSTART:20260806T223000Z
DTEND:20260806T233000Z
CLASS:PUBLIC
CREATED:20260420T195633
DESCRIPTION:
LAST-MODIFIED:20260420T195633
LOCATION:Zion sanctuary
SUMMARY:Ensemble rehearsal
URL;VALUE=URI:https://www.ziondavenport.org/events/ensemble-rehearsal/2026-
 08-06
ATTACH;FILENAME=ensemble-piano.jpg;FMTTYPE=image/jpeg:https://dq5pwpg1q8ru0
 .cloudfront.net/2024/10/07/17/04/49/71a7421a-389a-48c3-932c-21c582407d2b/e
 nsemble-piano.jpg
END:VEVENT
END:VCALENDAR
