BEGIN:VCALENDAR
VERSION:2.0
PRODID:icalendar-ruby
CALSCALE:GREGORIAN
METHOD:PUBLISH
BEGIN:VEVENT
DTSTAMP:20260422T084947Z
UID:267-2130340@ziondavenport.org
DTSTART:20260420T230000Z
DTEND:20260421T003000Z
CLASS:PUBLIC
CREATED:20260324T145429
DESCRIPTION:
LAST-MODIFIED:20260324T145429
LOCATION:
SUMMARY:Eve Circle
URL;VALUE=URI:https://www.ziondavenport.org/events/eve-circle--267/2026-04-
 20
END:VEVENT
END:VCALENDAR
