BEGIN:VCALENDAR
VERSION:2.0
PRODID:icalendar-ruby
CALSCALE:GREGORIAN
METHOD:PUBLISH
BEGIN:VEVENT
DTSTAMP:20260421T084053Z
UID:125-2398591@ziondavenport.org
DTSTART:20260723T203000Z
DTEND:20260723T220000Z
CLASS:PUBLIC
CREATED:20260420T195636
DESCRIPTION:
LAST-MODIFIED:20260420T195636
LOCATION:
SUMMARY:Food Pantry
URL;VALUE=URI:https://www.ziondavenport.org/events/food-pantry--125/2026-07
 -23
ATTACH;FILENAME=PXL_20231024_135125982.jpg;FMTTYPE=image/jpeg:https://dq5pw
 pg1q8ru0.cloudfront.net/2026/01/14/19/30/48/a27be298-c7ac-43b5-9ee6-deeacc
 d57a76/PXL_20231024_135125982.jpg
END:VEVENT
END:VCALENDAR
