BEGIN:VCALENDAR
VERSION:2.0
PRODID:icalendar-ruby
CALSCALE:GREGORIAN
METHOD:PUBLISH
BEGIN:VEVENT
DTSTAMP:20260421T150654Z
UID:125-2401905@ziondavenport.org
DTSTART:20260820T203000Z
DTEND:20260820T220000Z
CLASS:PUBLIC
CREATED:20260421T093852
DESCRIPTION:
LAST-MODIFIED:20260421T093852
LOCATION:
SUMMARY:Food Pantry
URL;VALUE=URI:https://www.ziondavenport.org/events/food-pantry--125/2026-08
 -20
ATTACH;FILENAME=PXL_20231024_135125982.jpg;FMTTYPE=image/jpeg:https://dq5pw
 pg1q8ru0.cloudfront.net/2026/01/14/19/30/48/a27be298-c7ac-43b5-9ee6-deeacc
 d57a76/PXL_20231024_135125982.jpg
END:VEVENT
END:VCALENDAR
