BEGIN:VCALENDAR
VERSION:2.0
PRODID:icalendar-ruby
CALSCALE:GREGORIAN
METHOD:PUBLISH
BEGIN:VEVENT
DTSTAMP:20260422T012352Z
UID:125-2408533@ziondavenport.org
DTSTART:20261001T203000Z
DTEND:20261001T220000Z
CLASS:PUBLIC
CREATED:20260421T201140
DESCRIPTION:
LAST-MODIFIED:20260421T201140
LOCATION:
SUMMARY:Food Pantry
URL;VALUE=URI:https://www.ziondavenport.org/events/food-pantry--125/2026-10
 -01
ATTACH;FILENAME=PXL_20231024_135125982.jpg;FMTTYPE=image/jpeg:https://dq5pw
 pg1q8ru0.cloudfront.net/2026/01/14/19/30/48/a27be298-c7ac-43b5-9ee6-deeacc
 d57a76/PXL_20231024_135125982.jpg
END:VEVENT
END:VCALENDAR
