BEGIN:VCALENDAR
VERSION:2.0
PRODID:icalendar-ruby
CALSCALE:GREGORIAN
METHOD:PUBLISH
BEGIN:VEVENT
DTSTAMP:20260422T035855Z
UID:10-2407338@ziondavenport.org
DTSTART:20260914T203000Z
DTEND:20260914T220000Z
CLASS:PUBLIC
CREATED:20260421T201134
DESCRIPTION:Come shop once-a-month for food for you and your household. An 
 ID is helpful but not required. Zion's pantry serves Scott County resident
 s. Click here to find other food pantries.
LAST-MODIFIED:20260421T201134
LOCATION:Zion food pantry
SUMMARY:Food Pantry
URL;VALUE=URI:https://www.ziondavenport.org/events/food-pantry/2026-09-14
ATTACH;FILENAME=PXL_20231024_135108460.jpg;FMTTYPE=image/jpeg:https://dq5pw
 pg1q8ru0.cloudfront.net/2024/07/09/11/54/37/9b7cd992-a94e-41bb-a977-e72205
 33ef59/PXL_20231024_135108460.jpg
END:VEVENT
END:VCALENDAR
