BEGIN:VCALENDAR
VERSION:2.0
PRODID:icalendar-ruby
CALSCALE:GREGORIAN
METHOD:PUBLISH
BEGIN:VEVENT
DTSTAMP:20260421T233528Z
UID:126-2406951@ziondavenport.org
DTSTART:20260917T223000Z
DTEND:20260917T230000Z
CLASS:PUBLIC
CREATED:20260421T173249
DESCRIPTION:
LAST-MODIFIED:20260421T173249
LOCATION:Zion Fellowship Hall
SUMMARY:Free Meal
URL;VALUE=URI:https://www.ziondavenport.org/events/free-meal--126/2026-09-1
 7
ATTACH;FILENAME=PXL_20250625_223105939.MP-EDIT.jpg;FMTTYPE=image/jpeg:https
 ://dq5pwpg1q8ru0.cloudfront.net/2026/01/14/19/13/31/117cce50-803c-4498-ad1
 d-7b9c49ea6f73/PXL_20250625_223105939.MP-EDIT.jpg
END:VEVENT
END:VCALENDAR
