BEGIN:VCALENDAR
VERSION:2.0
PRODID:icalendar-ruby
CALSCALE:GREGORIAN
METHOD:PUBLISH
BEGIN:VEVENT
DTSTAMP:20260422T230847Z
UID:11-2414236@ziondavenport.org
DTSTART:20260925T223000Z
DTEND:20260925T231500Z
CLASS:PUBLIC
CREATED:20260422T160241
DESCRIPTION:Weekdays\, 5:30pm until the food is gone. Hosted by Zion. Coord
 inated by Churches United of the Quad City Area.
LAST-MODIFIED:20260422T160241
LOCATION:Zion Fellowship Hall
SUMMARY:Free Meal	
URL;VALUE=URI:https://www.ziondavenport.org/events/free-meal/2026-09-25
ATTACH;FILENAME=mealsite.jpg;FMTTYPE=image/jpeg:https://dq5pwpg1q8ru0.cloud
 front.net/2024/07/09/12/00/22/e4732cfd-3b14-4a5c-9006-04003279db25/mealsit
 e.jpg
END:VEVENT
END:VCALENDAR
