BEGIN:VCALENDAR
VERSION:2.0
PRODID:icalendar-ruby
CALSCALE:GREGORIAN
METHOD:PUBLISH
BEGIN:VEVENT
DTSTAMP:20260421T213743Z
UID:36-2404907@ziondavenport.org
DTSTART:20260904T003000Z
DTEND:20260904T010000Z
CLASS:PUBLIC
CREATED:20260421T145442
DESCRIPTION:
LAST-MODIFIED:20260421T145442
LOCATION:Zion Sanctuary
SUMMARY:Handbell Rehearsal
URL;VALUE=URI:https://www.ziondavenport.org/events/handbell-rehearsal/2026-
 09-03
ATTACH;FILENAME=bell-choir.jpg;FMTTYPE=image/jpeg:https://dq5pwpg1q8ru0.clo
 udfront.net/2024/10/07/17/00/05/898928e8-4a9e-433b-b654-101e7244082f/bell-
 choir.jpg
END:VEVENT
END:VCALENDAR
