BEGIN:VCALENDAR
VERSION:2.0
PRODID:icalendar-ruby
CALSCALE:GREGORIAN
METHOD:PUBLISH
BEGIN:VEVENT
DTSTAMP:20260425T122823Z
UID:181-2440205@ziondavenport.org
DTSTART:20261101T164500Z
DTEND:20261101T173000Z
CLASS:PUBLIC
CREATED:20260425T070736
DESCRIPTION:
LAST-MODIFIED:20260425T070736
LOCATION:Choir room
SUMMARY:Joyful Noise
URL;VALUE=URI:https://www.ziondavenport.org/events/joyful-noise/2026-11-01
ATTACH;FILENAME=Joyful Noise Children’s Choir.png;FMTTYPE=image/png:https
 ://dq5pwpg1q8ru0.cloudfront.net/2025/08/20/18/02/10/bca87a9e-9c96-4080-a30
 2-d2c204fe6919/Joyful%20Noise%20Children%E2%80%99s%20Choir.png
END:VEVENT
END:VCALENDAR
