BEGIN:VCALENDAR
VERSION:2.0
PRODID:icalendar-ruby
CALSCALE:GREGORIAN
METHOD:PUBLISH
BEGIN:VEVENT
DTSTAMP:20260425T171905Z
UID:19-2441026@ziondavenport.org
DTSTART:20260913T154500Z
DTEND:20260913T170000Z
CLASS:PUBLIC
CREATED:20260425T094838
DESCRIPTION:
LAST-MODIFIED:20260425T094838
LOCATION:Zion Room 8
SUMMARY:Sunday Bible Study
URL;VALUE=URI:https://www.ziondavenport.org/events/sunday-bible-study/2026-
 09-13
ATTACH;FILENAME=bible b-roll.jpg;FMTTYPE=image/jpeg:https://dq5pwpg1q8ru0.c
 loudfront.net/2025/08/14/14/19/45/56dec2c8-0a83-4603-a97e-8e36ae1c1ded/bib
 le%20b-roll.jpg
END:VEVENT
END:VCALENDAR
